BEGIN:VCALENDAR
VERSION:2.0
PRODID:-//Catch - ECPv4.9.9//NONSGML v1.0//EN
CALSCALE:GREGORIAN
METHOD:PUBLISH
X-WR-CALNAME:Catch
X-ORIGINAL-URL:http://catch-southbaltic.eu
X-WR-CALDESC:Events for Catch
BEGIN:VTIMEZONE
TZID:UTC
BEGIN:STANDARD
TZOFFSETFROM:+0000
TZOFFSETTO:+0000
TZNAME:UTC
DTSTART:20190101T000000
END:STANDARD
END:VTIMEZONE
BEGIN:VEVENT
DTSTART;VALUE=DATE:20190727
DTEND;VALUE=DATE:20190728
DTSTAMP:20200812T185134
CREATED:20190724T155515Z
LAST-MODIFIED:20190724T155531Z
UID:1860-1564185600-1564271999@catch-southbaltic.eu
SUMMARY:Fish day in Hel
DESCRIPTION:This Saturday\, 27 July 2019\, the Fish Day will take place in Hel on the Small Beach! No – it is not a culinary event\, but a nature event! \n
URL:http://catch-southbaltic.eu/event/fish-day-in-hel/
CATEGORIES:upcoming events
ATTACH;FMTTYPE=image/jpeg:http://catch-southbaltic.eu/wp-content/uploads/2019/07/dzień-ryby.jpg
END:VEVENT
END:VCALENDAR